BEGIN:VCALENDAR
VERSION:2.0
PRODID:-//Tukios.com/
BEGIN:VEVENT
UID:d1fcf7de-113f-47d7-9490-63c5dd619852@www.burketubbs.com
DTSTAMP:20260425T190849Z
DTSTART:20260502T160000Z
DTEND:20260502T170000Z
SUMMARY:Funeral Service
DESCRIPTION:
URL:https://www.burketubbs.com/obituaries/beverly-taylor
LOCATION: 504 North Walnut Avenue  Freeport IL 61032
GEO:42.3011373;-89.625422
END:VEVENT
END:VCALENDAR