BEGIN:VCALENDAR
VERSION:2.0
PRODID:-//Tukios.com/
BEGIN:VEVENT
UID:12c779c5-5e22-44ee-9470-483c58c4b034@www.burketubbs.com
DTSTAMP:20260425T190341Z
DTSTART:20260502T160000Z
DTEND:20260502T170000Z
SUMMARY:Interment
DESCRIPTION:
URL:https://www.burketubbs.com/obituaries/beverly-taylor
LOCATION: 2514 Illinois 26  Freeport IL 61032
GEO:42.2647388;-89.6318215
END:VEVENT
END:VCALENDAR