BEGIN:VCALENDAR
VERSION:2.0
PRODID:-//Tukios.com/
BEGIN:VEVENT
UID:27ba0990-418e-4861-8cb2-5584305c43ef@www.burketubbs.com
DTSTAMP:20260425T190538Z
DTSTART:20260509T170000Z
DTEND:20260509T180000Z
SUMMARY:Celebration of Life
DESCRIPTION:
URL:https://www.burketubbs.com/obituaries/beverly-taylor
LOCATION:Mountain Christian Church 1824 Mountain Road  Joppatowne MD 
	21085
GEO:39.4679716;-76.3738126
END:VEVENT
END:VCALENDAR