BEGIN:VCALENDAR
VERSION:2.0
PRODID:-//Tukios.com/
BEGIN:VEVENT
UID:acc0fd88-2bb1-46d8-bd93-8e47b9b4f8db@www.burketubbs.com
DTSTAMP:20260424T202519Z
DTSTART:20260428T193000Z
DTEND:20260428T201500Z
SUMMARY:Funeral Service
DESCRIPTION:
URL:https://www.burketubbs.com/obituaries/earlene-vondran
LOCATION: 504 N Walnut Ave  Freeport IL 61032
GEO:42.3011373;-89.625422
END:VEVENT
END:VCALENDAR