BEGIN:VCALENDAR
VERSION:2.0
PRODID:-//Tukios.com/
BEGIN:VEVENT
UID:9aec5fe8-1cb9-4057-b081-d422f2a522d1@www.burketubbs.com
DTSTAMP:20260420T223942Z
DTSTART:20260430T190000Z
DTEND:20260430T203000Z
SUMMARY:Visitation
DESCRIPTION:
URL:https://www.burketubbs.com/obituaries/hon-barry-anderson
LOCATION: 504 North Walnut Avenue  Freeport IL 61032
GEO:42.3011373;-89.625422
END:VEVENT
END:VCALENDAR