BEGIN:VCALENDAR
VERSION:2.0
PRODID:-//Tukios.com/
BEGIN:VEVENT
UID:edb0cb01-fc9d-4d38-9a55-99b8e1720d40@www.burketubbs.com
DTSTAMP:20260420T194906Z
DTSTART:20260427T180000Z
DTEND:20260427T190000Z
SUMMARY:Funeral Service
DESCRIPTION:
URL:https://www.burketubbs.com/obituaries/robert-fleischer
LOCATION: 504 N. Walnut Street  Freeport IL 61032
GEO:42.3011373;-89.625422
END:VEVENT
END:VCALENDAR