BEGIN:VCALENDAR
VERSION:2.0
PRODID:-//Tukios.com/
BEGIN:VEVENT
UID:99ea3387-16e4-4f28-8abd-2aedad95516f@www.burketubbs.com
DTSTAMP:20260420T194740Z
DTSTART:20260427T160000Z
DTEND:20260427T180000Z
SUMMARY:Visitation
DESCRIPTION:
URL:https://www.burketubbs.com/obituaries/robert-fleischer
LOCATION: 504 N. Walnut Street  Freeport IL 61032
GEO:42.3011373;-89.625422
END:VEVENT
END:VCALENDAR