BEGIN:VCALENDAR
VERSION:2.0
PRODID:-//Tukios.com/
BEGIN:VEVENT
UID:c39f1f90-90a7-4c47-b1e0-aa5b82523f81@www.burketubbs.com
DTSTAMP:20260421T002655Z
DTSTART:20260428T150000Z
DTEND:20260428T160000Z
SUMMARY:Visitation
DESCRIPTION:
URL:https://www.burketubbs.com/obituaries/sandra-turner
LOCATION: 504 N Walnut Ave  Freeport IL 61032
GEO:42.3011373;-89.625422
END:VEVENT
END:VCALENDAR