BEGIN:VCALENDAR
VERSION:2.0
PRODID:-//Tukios.com/
BEGIN:VEVENT
UID:5f3ac9d5-ecf3-452c-bb98-6be3351865e4@www.burketubbs.com
DTSTAMP:20260421T002945Z
DTSTART:20260428T160000Z
DTEND:20260428T170000Z
SUMMARY:Memorial Service
DESCRIPTION:
URL:https://www.burketubbs.com/obituaries/sandra-turner
LOCATION: 504 N Walnut Ave  Freeport IL 61032
GEO:42.3011373;-89.625422
END:VEVENT
END:VCALENDAR